BEGIN:VCALENDAR
VERSION:2.0
CALSCALE:GREGORIAN
PRODID:UnionActive
BEGIN:VEVENT
UID:8485121@teamsterslocal776.org
SUMMARY:UPS, UPSF National Grievance Committee Meetings
DESCRIPTION:Contact:  \nLink for more information: http://teamsterslocal776.org/index.cfm?zone=/unionactive/view_calendar.cfm&calendarID=8485121&thisdate=05/22/2016&useCalSection=main
LOCATION:
URL:http://teamsterslocal776.org/index.cfm?zone=/unionactive/view_calendar.cfm&calendarID=8485121&thisdate=05/22/2016&useCalSection=main
DTSTART:20160522T120000Z
DTEND:20160527T130000Z
DTSTAMP:20260419T091746
TRIGGER:-PT60M
END:VEVENT
END:VCALENDAR
