BEGIN:VCALENDAR
VERSION:2.0
CALSCALE:GREGORIAN
PRODID:UnionActive
BEGIN:VEVENT
UID:8097715@teamsterslocal776.org
SUMMARY:Teamsters Local 776 Picnic
DESCRIPTION:Contact:  \nLink for more information: http://teamsterslocal776.org/index.cfm?zone=/unionactive/view_calendar.cfm&calendarID=8097715&thisdate=06/28/2015&useCalSection=main
LOCATION:Harrisburg City Island
URL:http://teamsterslocal776.org/index.cfm?zone=/unionactive/view_calendar.cfm&calendarID=8097715&thisdate=06/28/2015&useCalSection=main
DTSTART:20150628T120000Z
DTEND:20150628T130000Z
DTSTAMP:20260419T122952
TRIGGER:-PT60M
END:VEVENT
END:VCALENDAR
