BEGIN:VCALENDAR
VERSION:2.0
CALSCALE:GREGORIAN
PRODID:UnionActive
BEGIN:VEVENT
UID:8097713@teamsterslocal776.org
SUMMARY:St. Patrick's Day Parade
DESCRIPTION:Contact:  \nLink for more information: http://teamsterslocal776.org/index.cfm?zone=/unionactive/view_calendar.cfm&calendarID=8097713&thisdate=03/21/2015&useCalSection=main
LOCATION:Meet at the Harrisburg Union Hall by 12:30 PM
URL:http://teamsterslocal776.org/index.cfm?zone=/unionactive/view_calendar.cfm&calendarID=8097713&thisdate=03/21/2015&useCalSection=main
DTSTART:20150321T163000Z
DTEND:20150321T173000Z
DTSTAMP:20260419T074357
TRIGGER:-PT60M
END:VEVENT
END:VCALENDAR
