BEGIN:VCALENDAR
VERSION:2.0
CALSCALE:GREGORIAN
PRODID:UnionActive
BEGIN:VEVENT
UID:7790169@teamsterslocal776.org
SUMMARY:Eastern Region Freight Joint Committee Meeting
DESCRIPTION:Contact:  \nLink for more information: http://teamsterslocal776.org/index.cfm?zone=/unionactive/view_calendar.cfm&calendarID=7790169&thisdate=01/26/2015&useCalSection=main
LOCATION:
URL:http://teamsterslocal776.org/index.cfm?zone=/unionactive/view_calendar.cfm&calendarID=7790169&thisdate=01/26/2015&useCalSection=main
DTSTART:20150126T130000Z
DTEND:20150128T140000Z
DTSTAMP:20260419T140957
TRIGGER:-PT60M
END:VEVENT
END:VCALENDAR
