BEGIN:VCALENDAR
VERSION:2.0
CALSCALE:GREGORIAN
PRODID:UnionActive
BEGIN:VEVENT
UID:7785906@teamsterslocal776.org
SUMMARY:Monthly Membership Meeting
DESCRIPTION:Contact:  \nLink for more information: http://teamsterslocal776.org/index.cfm?zone=/unionactive/view_calendar.cfm&calendarID=7785906&thisdate=11/08/2015&useCalSection=main
LOCATION:Harrisburg Union Hall
URL:http://teamsterslocal776.org/index.cfm?zone=/unionactive/view_calendar.cfm&calendarID=7785906&thisdate=11/08/2015&useCalSection=main
DTSTART:20151108T130000Z
DTEND:20151108T140000Z
DTSTAMP:20260419T152258
TRIGGER:-PT60M
END:VEVENT
END:VCALENDAR
