BEGIN:VCALENDAR
VERSION:2.0
CALSCALE:GREGORIAN
PRODID:UnionActive
BEGIN:VEVENT
UID:7785905@teamsterslocal776.org
SUMMARY:Stewards Meeting
DESCRIPTION:Contact:  \nLink for more information: http://teamsterslocal776.org/index.cfm?zone=/unionactive/view_calendar.cfm&calendarID=7785905&thisdate=11/07/2015&useCalSection=main
LOCATION:Harrisburg Union Hall
URL:http://teamsterslocal776.org/index.cfm?zone=/unionactive/view_calendar.cfm&calendarID=7785905&thisdate=11/07/2015&useCalSection=main
DTSTART:20151107T130000Z
DTEND:20151107T140000Z
DTSTAMP:20260419T152443
TRIGGER:-PT60M
END:VEVENT
END:VCALENDAR
