BEGIN:VCALENDAR
VERSION:2.0
CALSCALE:GREGORIAN
PRODID:UnionActive
BEGIN:VEVENT
UID:7785904@teamsterslocal776.org
SUMMARY:Monthly Membership Meeting
DESCRIPTION:Contact:  \nLink for more information: http://teamsterslocal776.org/index.cfm?zone=/unionactive/view_calendar.cfm&calendarID=7785904&thisdate=10/11/2015&useCalSection=main
LOCATION:Harrisburg Union Hall
URL:http://teamsterslocal776.org/index.cfm?zone=/unionactive/view_calendar.cfm&calendarID=7785904&thisdate=10/11/2015&useCalSection=main
DTSTART:20151011T120000Z
DTEND:20151011T130000Z
DTSTAMP:20260419T152109
TRIGGER:-PT60M
END:VEVENT
END:VCALENDAR
