BEGIN:VCALENDAR
VERSION:2.0
CALSCALE:GREGORIAN
PRODID:UnionActive
BEGIN:VEVENT
UID:7785903@teamsterslocal776.org
SUMMARY:Monthly Membership Meeting
DESCRIPTION:Contact:  \nLink for more information: http://teamsterslocal776.org/index.cfm?zone=/unionactive/view_calendar.cfm&calendarID=7785903&thisdate=09/13/2015&useCalSection=main
LOCATION:Harrisburg Union Hall
URL:http://teamsterslocal776.org/index.cfm?zone=/unionactive/view_calendar.cfm&calendarID=7785903&thisdate=09/13/2015&useCalSection=main
DTSTART:20150913T120000Z
DTEND:20150913T130000Z
DTSTAMP:20260419T152236
TRIGGER:-PT60M
END:VEVENT
END:VCALENDAR
