BEGIN:VCALENDAR
VERSION:2.0
CALSCALE:GREGORIAN
PRODID:UnionActive
BEGIN:VEVENT
UID:7785902@teamsterslocal776.org
SUMMARY:Stewards Meeting
DESCRIPTION:Contact:  \nLink for more information: http://teamsterslocal776.org/index.cfm?zone=/unionactive/view_calendar.cfm&calendarID=7785902&thisdate=09/12/2015&useCalSection=main
LOCATION:Harrisburg Union Hall
URL:http://teamsterslocal776.org/index.cfm?zone=/unionactive/view_calendar.cfm&calendarID=7785902&thisdate=09/12/2015&useCalSection=main
DTSTART:20150912T120000Z
DTEND:20150912T130000Z
DTSTAMP:20260419T122932
TRIGGER:-PT60M
END:VEVENT
END:VCALENDAR
