BEGIN:VCALENDAR
VERSION:2.0
CALSCALE:GREGORIAN
PRODID:UnionActive
BEGIN:VEVENT
UID:7785901@teamsterslocal776.org
SUMMARY:Stewards Meeting
DESCRIPTION:Contact:  \nLink for more information: http://teamsterslocal776.org/index.cfm?zone=/unionactive/view_calendar.cfm&calendarID=7785901&thisdate=05/02/2015&useCalSection=main
LOCATION:
URL:http://teamsterslocal776.org/index.cfm?zone=/unionactive/view_calendar.cfm&calendarID=7785901&thisdate=05/02/2015&useCalSection=main
DTSTART:20150502T120000Z
DTEND:20150502T130000Z
DTSTAMP:20260419T164601
TRIGGER:-PT60M
END:VEVENT
END:VCALENDAR
