BEGIN:VCALENDAR
VERSION:2.0
CALSCALE:GREGORIAN
PRODID:UnionActive
BEGIN:VEVENT
UID:7785900@teamsterslocal776.org
SUMMARY:Stewards Meeting
DESCRIPTION:Contact:  \nLink for more information: http://teamsterslocal776.org/index.cfm?zone=/unionactive/view_calendar.cfm&calendarID=7785900&thisdate=03/07/2015&useCalSection=main
LOCATION:Harrisburg Union Hall
URL:http://teamsterslocal776.org/index.cfm?zone=/unionactive/view_calendar.cfm&calendarID=7785900&thisdate=03/07/2015&useCalSection=main
DTSTART:20150307T130000Z
DTEND:20150307T140000Z
DTSTAMP:20260419T074524
TRIGGER:-PT60M
END:VEVENT
END:VCALENDAR
