BEGIN:VCALENDAR
VERSION:2.0
CALSCALE:GREGORIAN
PRODID:UnionActive
BEGIN:VEVENT
UID:7783488@teamsterslocal776.org
SUMMARY:UPS Central PA Panel Hearing
DESCRIPTION:Contact:  \nLink for more information: http://teamsterslocal776.org/index.cfm?zone=/unionactive/view_calendar.cfm&calendarID=7783488&thisdate=10/01/2015&useCalSection=main
LOCATION:Harrisburg, PA
URL:http://teamsterslocal776.org/index.cfm?zone=/unionactive/view_calendar.cfm&calendarID=7783488&thisdate=10/01/2015&useCalSection=main
DTSTART:20151001T120000Z
DTEND:20151001T130000Z
DTSTAMP:20260419T153357
TRIGGER:-PT60M
END:VEVENT
END:VCALENDAR
