BEGIN:VCALENDAR
VERSION:2.0
CALSCALE:GREGORIAN
PRODID:UnionActive
BEGIN:VEVENT
UID:7783185@teamsterslocal776.org
SUMMARY:UPS Central PA Panel Hearing
DESCRIPTION:Contact:  \nLink for more information: http://teamsterslocal776.org/index.cfm?zone=/unionactive/view_calendar.cfm&calendarID=7783185&thisdate=08/06/2015&useCalSection=main
LOCATION:Lancaster, PA
URL:http://teamsterslocal776.org/index.cfm?zone=/unionactive/view_calendar.cfm&calendarID=7783185&thisdate=08/06/2015&useCalSection=main
DTSTART:20150806T120000Z
DTEND:20150806T130000Z
DTSTAMP:20260419T140034
TRIGGER:-PT60M
END:VEVENT
END:VCALENDAR
