BEGIN:VCALENDAR
VERSION:2.0
CALSCALE:GREGORIAN
PRODID:UnionActive
BEGIN:VEVENT
UID:7783182@teamsterslocal776.org
SUMMARY:UPS Central PA Panel Hearing
DESCRIPTION:Contact:  \nLink for more information: http://teamsterslocal776.org/index.cfm?zone=/unionactive/view_calendar.cfm&calendarID=7783182&thisdate=04/02/2015&useCalSection=main
LOCATION:Reading, PA
URL:http://teamsterslocal776.org/index.cfm?zone=/unionactive/view_calendar.cfm&calendarID=7783182&thisdate=04/02/2015&useCalSection=main
DTSTART:20150402T120000Z
DTEND:20150402T130000Z
DTSTAMP:20260419T105107
TRIGGER:-PT60M
END:VEVENT
END:VCALENDAR
