BEGIN:VCALENDAR
VERSION:2.0
CALSCALE:GREGORIAN
PRODID:UnionActive
BEGIN:VEVENT
UID:7783176@teamsterslocal776.org
SUMMARY:Central PA Joint Area Freight Committee Meeting
DESCRIPTION:Contact:  \nLink for more information: http://teamsterslocal776.org/index.cfm?zone=/unionactive/view_calendar.cfm&calendarID=7783176&thisdate=09/02/2015&useCalSection=main
LOCATION:Location to be announced
URL:http://teamsterslocal776.org/index.cfm?zone=/unionactive/view_calendar.cfm&calendarID=7783176&thisdate=09/02/2015&useCalSection=main
DTSTART:20150902T120000Z
DTEND:20150902T130000Z
DTSTAMP:20260419T152152
TRIGGER:-PT60M
END:VEVENT
END:VCALENDAR
