BEGIN:VCALENDAR
VERSION:2.0
CALSCALE:GREGORIAN
PRODID:UnionActive
BEGIN:VEVENT
UID:7544218@teamsterslocal776.org
SUMMARY:Monthly Membership Meeting
DESCRIPTION:Contact:  \nLink for more information: http://teamsterslocal776.org/index.cfm?zone=/unionactive/view_calendar.cfm&calendarID=7544218&thisdate=04/12/2015&useCalSection=main
LOCATION:Harrisburg Union Hall
URL:http://teamsterslocal776.org/index.cfm?zone=/unionactive/view_calendar.cfm&calendarID=7544218&thisdate=04/12/2015&useCalSection=main
DTSTART:20150412T140000Z
DTEND:20150412T150000Z
DTSTAMP:20260419T074443
TRIGGER:-PT60M
END:VEVENT
END:VCALENDAR
