BEGIN:VCALENDAR
VERSION:2.0
CALSCALE:GREGORIAN
PRODID:UnionActive
BEGIN:VEVENT
UID:5091983@teamsterslocal776.org
SUMMARY:UPS/UPS Freight National Grievance Committee
DESCRIPTION:Contact:  \nLink for more information: http://teamsterslocal776.org/index.cfm?zone=/unionactive/view_calendar.cfm&calendarID=5091983&thisdate=10/10/2012&useCalSection=main
LOCATION:San Diego, CA
URL:http://teamsterslocal776.org/index.cfm?zone=/unionactive/view_calendar.cfm&calendarID=5091983&thisdate=10/10/2012&useCalSection=main
DTSTART:20121010T120000Z
DTEND:20121010T130000Z
DTSTAMP:20260419T165129
TRIGGER:-PT60M
END:VEVENT
END:VCALENDAR
