BEGIN:VCALENDAR
VERSION:2.0
CALSCALE:GREGORIAN
PRODID:UnionActive
BEGIN:VEVENT
UID:5091981@teamsterslocal776.org
SUMMARY:UPS/UPS Freight National Grievance Committee
DESCRIPTION:Contact:  \nLink for more information: http://teamsterslocal776.org/index.cfm?zone=/unionactive/view_calendar.cfm&calendarID=5091981&thisdate=10/08/2012&useCalSection=main
LOCATION:San Diego, CA
URL:http://teamsterslocal776.org/index.cfm?zone=/unionactive/view_calendar.cfm&calendarID=5091981&thisdate=10/08/2012&useCalSection=main
DTSTART:20121008T120000Z
DTEND:20121008T130000Z
DTSTAMP:20260419T151822
TRIGGER:-PT60M
END:VEVENT
END:VCALENDAR
