BEGIN:VCALENDAR
VERSION:2.0
CALSCALE:GREGORIAN
PRODID:UnionActive
BEGIN:VEVENT
UID:4137920@teamsterslocal776.org
SUMMARY:Central PA Joint Area Freight Hearings
DESCRIPTION:Contact:  \nLink for more information: http://teamsterslocal776.org/index.cfm?zone=/unionactive/view_calendar.cfm&calendarID=4137920&thisdate=09/07/2011&useCalSection=main
LOCATION:
URL:http://teamsterslocal776.org/index.cfm?zone=/unionactive/view_calendar.cfm&calendarID=4137920&thisdate=09/07/2011&useCalSection=main
DTSTART:20110907T120000Z
DTEND:20110907T130000Z
DTSTAMP:20260419T152129
TRIGGER:-PT60M
END:VEVENT
END:VCALENDAR
