BEGIN:VCALENDAR
VERSION:2.0
CALSCALE:GREGORIAN
PRODID:UnionActive
BEGIN:VEVENT
UID:4137916@teamsterslocal776.org
SUMMARY:Central PA Joint Area Freight Hearings
DESCRIPTION:Contact:  \nLink for more information: http://teamsterslocal776.org/index.cfm?zone=/unionactive/view_calendar.cfm&calendarID=4137916&thisdate=01/05/2011&useCalSection=main
LOCATION:
URL:http://teamsterslocal776.org/index.cfm?zone=/unionactive/view_calendar.cfm&calendarID=4137916&thisdate=01/05/2011&useCalSection=main
DTSTART:20110105T130000Z
DTEND:20110105T140000Z
DTSTAMP:20260419T122850
TRIGGER:-PT60M
END:VEVENT
END:VCALENDAR
