BEGIN:VCALENDAR
VERSION:2.0
CALSCALE:GREGORIAN
PRODID:UnionActive
BEGIN:VEVENT
UID:4108712@teamsterslocal776.org
SUMMARY:UPS Frt. Eastern Region Grievance Panel
DESCRIPTION:Contact:  \nLink for more information: http://teamsterslocal776.org/index.cfm?zone=/unionactive/view_calendar.cfm&calendarID=4108712&thisdate=01/17/2011&useCalSection=main
LOCATION:
URL:http://teamsterslocal776.org/index.cfm?zone=/unionactive/view_calendar.cfm&calendarID=4108712&thisdate=01/17/2011&useCalSection=main
DTSTART:20110117T130000Z
DTEND:20110119T140000Z
DTSTAMP:20260419T062453
TRIGGER:-PT60M
END:VEVENT
END:VCALENDAR
