BEGIN:VCALENDAR
VERSION:2.0
CALSCALE:GREGORIAN
PRODID:UnionActive
BEGIN:VEVENT
UID:4108709@teamsterslocal776.org
SUMMARY:UPS, UPS Frt. National Grievance Committee
DESCRIPTION:Contact:  \nLink for more information: http://teamsterslocal776.org/index.cfm?zone=/unionactive/view_calendar.cfm&calendarID=4108709&thisdate=03/07/2011&useCalSection=main
LOCATION:
URL:http://teamsterslocal776.org/index.cfm?zone=/unionactive/view_calendar.cfm&calendarID=4108709&thisdate=03/07/2011&useCalSection=main
DTSTART:20110307T130000Z
DTEND:20110311T140000Z
DTSTAMP:20260419T123105
TRIGGER:-PT60M
END:VEVENT
END:VCALENDAR
