BEGIN:VCALENDAR
VERSION:2.0
CALSCALE:GREGORIAN
PRODID:UnionActive
BEGIN:VEVENT
UID:4107932@teamsterslocal776.org
SUMMARY:Local 776 Children's Christmas Party
DESCRIPTION:Contact:  \nLink for more information: http://teamsterslocal776.org/index.cfm?zone=/unionactive/view_calendar.cfm&calendarID=4107932&thisdate=12/10/2011&useCalSection=main
LOCATION:Harrisburg Union Hall
URL:http://teamsterslocal776.org/index.cfm?zone=/unionactive/view_calendar.cfm&calendarID=4107932&thisdate=12/10/2011&useCalSection=main
DTSTART:20111210T150000Z
DTEND:20111210T190000Z
DTSTAMP:20260419T105047
TRIGGER:-PT60M
END:VEVENT
END:VCALENDAR
