BEGIN:VCALENDAR
VERSION:2.0
CALSCALE:GREGORIAN
PRODID:UnionActive
BEGIN:VEVENT
UID:4107930@teamsterslocal776.org
SUMMARY:D.R.I.V.E. Dinner-Dance
DESCRIPTION:Contact:  \nLink for more information: http://teamsterslocal776.org/index.cfm?zone=/unionactive/view_calendar.cfm&calendarID=4107930&thisdate=03/26/2011&useCalSection=main
LOCATION:To be announced
URL:http://teamsterslocal776.org/index.cfm?zone=/unionactive/view_calendar.cfm&calendarID=4107930&thisdate=03/26/2011&useCalSection=main
DTSTART:20110326T120000Z
DTEND:20110326T130000Z
DTSTAMP:20260419T074503
TRIGGER:-PT60M
END:VEVENT
END:VCALENDAR
