BEGIN:VCALENDAR
VERSION:2.0
CALSCALE:GREGORIAN
PRODID:UnionActive
BEGIN:VEVENT
UID:3284080@teamsterslocal776.org
SUMMARY:Harrisburg Joint Local Freight Hearings
DESCRIPTION:Contact:  \nLink for more information: http://teamsterslocal776.org/index.cfm?zone=/unionactive/view_calendar.cfm&calendarID=3284080&thisdate=05/05/2010&useCalSection=main
LOCATION:To be determined
URL:http://teamsterslocal776.org/index.cfm?zone=/unionactive/view_calendar.cfm&calendarID=3284080&thisdate=05/05/2010&useCalSection=main
DTSTART:20100505T130000Z
DTEND:20100505T140000Z
DTSTAMP:20260419T091622
TRIGGER:-PT60M
END:VEVENT
END:VCALENDAR
