BEGIN:VCALENDAR
VERSION:2.0
CALSCALE:GREGORIAN
PRODID:UnionActive
BEGIN:VEVENT
UID:3283830@teamsterslocal776.org
SUMMARY:UPS Freight Eastern Region
DESCRIPTION:Contact:  \nLink for more information: http://teamsterslocal776.org/index.cfm?zone=/unionactive/view_calendar.cfm&calendarID=3283830&thisdate=11/15/2010&useCalSection=main
LOCATION:To be determined
URL:http://teamsterslocal776.org/index.cfm?zone=/unionactive/view_calendar.cfm&calendarID=3283830&thisdate=11/15/2010&useCalSection=main
DTSTART:20101115T140000Z
DTEND:20101117T150000Z
DTSTAMP:20260419T122840
TRIGGER:-PT60M
END:VEVENT
END:VCALENDAR
