BEGIN:VCALENDAR
VERSION:2.0
CALSCALE:GREGORIAN
PRODID:UnionActive
BEGIN:VEVENT
UID:3283823@teamsterslocal776.org
SUMMARY:UPS/UPS Freight National Hearings
DESCRIPTION:Contact:  \nLink for more information: http://teamsterslocal776.org/index.cfm?zone=/unionactive/view_calendar.cfm&calendarID=3283823&thisdate=03/01/2010&useCalSection=main
LOCATION:To be determined
URL:http://teamsterslocal776.org/index.cfm?zone=/unionactive/view_calendar.cfm&calendarID=3283823&thisdate=03/01/2010&useCalSection=main
DTSTART:20100301T140000Z
DTEND:20100305T150000Z
DTSTAMP:20260419T140024
TRIGGER:-PT60M
END:VEVENT
END:VCALENDAR
