BEGIN:VCALENDAR
VERSION:2.0
CALSCALE:GREGORIAN
PRODID:UnionActive
BEGIN:VEVENT
UID:3283817@teamsterslocal776.org
SUMMARY:UPS Central PA Hearings
DESCRIPTION:Contact:  \nLink for more information: http://teamsterslocal776.org/index.cfm?zone=/unionactive/view_calendar.cfm&calendarID=3283817&thisdate=06/24/2010&useCalSection=main
LOCATION:To be determined
URL:http://teamsterslocal776.org/index.cfm?zone=/unionactive/view_calendar.cfm&calendarID=3283817&thisdate=06/24/2010&useCalSection=main
DTSTART:20100624T130000Z
DTEND:20100624T140000Z
DTSTAMP:20260419T152202
TRIGGER:-PT60M
END:VEVENT
END:VCALENDAR
