BEGIN:VCALENDAR
VERSION:2.0
CALSCALE:GREGORIAN
PRODID:UnionActive
BEGIN:VEVENT
UID:3283812@teamsterslocal776.org
SUMMARY:UPS Central PA Hearings
DESCRIPTION:Contact:  \nLink for more information: http://teamsterslocal776.org/index.cfm?zone=/unionactive/view_calendar.cfm&calendarID=3283812&thisdate=03/09/2010&useCalSection=main
LOCATION:Reading, PA
URL:http://teamsterslocal776.org/index.cfm?zone=/unionactive/view_calendar.cfm&calendarID=3283812&thisdate=03/09/2010&useCalSection=main
DTSTART:20100309T140000Z
DTEND:20100309T150000Z
DTSTAMP:20260419T135938
TRIGGER:-PT60M
END:VEVENT
END:VCALENDAR
