BEGIN:VCALENDAR
VERSION:2.0
CALSCALE:GREGORIAN
PRODID:UnionActive
BEGIN:VEVENT
UID:3276462@teamsterslocal776.org
SUMMARY:Children's Christmas party
DESCRIPTION:Contact:  \nLink for more information: http://teamsterslocal776.org/index.cfm?zone=/unionactive/view_calendar.cfm&calendarID=3276462&thisdate=12/11/2010&useCalSection=main
LOCATION:Harrisburg Union Hall
URL:http://teamsterslocal776.org/index.cfm?zone=/unionactive/view_calendar.cfm&calendarID=3276462&thisdate=12/11/2010&useCalSection=main
DTSTART:20101211T150000Z
DTEND:20101211T190000Z
DTSTAMP:20260419T091851
TRIGGER:-PT60M
END:VEVENT
END:VCALENDAR
