BEGIN:VCALENDAR
VERSION:2.0
CALSCALE:GREGORIAN
PRODID:UnionActive
BEGIN:VEVENT
UID:3276460@teamsterslocal776.org
SUMMARY:2010 Annual golf tournament
DESCRIPTION:Contact: Ron Hicks \nLink for more information: http://teamsterslocal776.org/index.cfm?zone=/unionactive/view_calendar.cfm&calendarID=3276460&thisdate=08/01/2010&useCalSection=main
LOCATION:Eagles Crossing Golf Course, Carlisle, PA
URL:http://teamsterslocal776.org/index.cfm?zone=/unionactive/view_calendar.cfm&calendarID=3276460&thisdate=08/01/2010&useCalSection=main
DTSTART:20100801T110000Z
DTEND:20100801T120000Z
DTSTAMP:20260419T184124
TRIGGER:-PT60M
END:VEVENT
END:VCALENDAR
