BEGIN:VCALENDAR
VERSION:2.0
CALSCALE:GREGORIAN
PRODID:UnionActive
BEGIN:VEVENT
UID:3276455@teamsterslocal776.org
SUMMARY:Stewards meeting
DESCRIPTION:Contact:  \nLink for more information: http://teamsterslocal776.org/index.cfm?zone=/unionactive/view_calendar.cfm&calendarID=3276455&thisdate=05/08/2010&useCalSection=main
LOCATION:Harrisburg Union Hall
URL:http://teamsterslocal776.org/index.cfm?zone=/unionactive/view_calendar.cfm&calendarID=3276455&thisdate=05/08/2010&useCalSection=main
DTSTART:20100508T140000Z
DTEND:20100508T150000Z
DTSTAMP:20260419T135831
TRIGGER:-PT60M
END:VEVENT
END:VCALENDAR
