BEGIN:VCALENDAR
VERSION:2.0
CALSCALE:GREGORIAN
PRODID:UnionActive
BEGIN:VEVENT
UID:12694619@teamsterslocal776.org
SUMMARY:UPS Central PA Grievance Panel
DESCRIPTION:Contact:  \nLink for more information: http://teamsterslocal776.org/index.cfm?zone=/unionactive/view_calendar.cfm&calendarID=12694619&thisdate=09/03/2024&useCalSection=main
LOCATION:
URL:http://teamsterslocal776.org/index.cfm?zone=/unionactive/view_calendar.cfm&calendarID=12694619&thisdate=09/03/2024&useCalSection=main
DTSTART:20240903T130000Z
DTEND:20240905T210000Z
DTSTAMP:20260419T141546
TRIGGER:-PT60M
END:VEVENT
END:VCALENDAR
