BEGIN:VCALENDAR
VERSION:2.0
CALSCALE:GREGORIAN
PRODID:UnionActive
BEGIN:VEVENT
UID:12694614@teamsterslocal776.org
SUMMARY:Eastern region TForce Freight Committee
DESCRIPTION:Contact:  \nLink for more information: http://teamsterslocal776.org/index.cfm?zone=/unionactive/view_calendar.cfm&calendarID=12694614&thisdate=11/04/2024&useCalSection=main
LOCATION:
URL:http://teamsterslocal776.org/index.cfm?zone=/unionactive/view_calendar.cfm&calendarID=12694614&thisdate=11/04/2024&useCalSection=main
DTSTART:20241104T140000Z
DTEND:20241106T220000Z
DTSTAMP:20260419T202443
TRIGGER:-PT60M
END:VEVENT
END:VCALENDAR
