BEGIN:VCALENDAR
VERSION:2.0
CALSCALE:GREGORIAN
PRODID:UnionActive
BEGIN:VEVENT
UID:12642594@teamsterslocal776.org
SUMMARY:Freight National Grievance Committee
DESCRIPTION:Contact:  \nLink for more information: http://teamsterslocal776.org/index.cfm?zone=/unionactive/view_calendar.cfm&calendarID=12642594&thisdate=11/20/2024&useCalSection=main
LOCATION:
URL:http://teamsterslocal776.org/index.cfm?zone=/unionactive/view_calendar.cfm&calendarID=12642594&thisdate=11/20/2024&useCalSection=main
DTSTART:20241120T140000Z
DTEND:20241121T220000Z
DTSTAMP:20260419T105511
TRIGGER:-PT60M
END:VEVENT
END:VCALENDAR
