BEGIN:VCALENDAR
VERSION:2.0
CALSCALE:GREGORIAN
PRODID:UnionActive
BEGIN:VEVENT
UID:12642593@teamsterslocal776.org
SUMMARY:Freight National Grievance Committee
DESCRIPTION:Contact:  \nLink for more information: http://teamsterslocal776.org/index.cfm?zone=/unionactive/view_calendar.cfm&calendarID=12642593&thisdate=08/14/2024&useCalSection=main
LOCATION:
URL:http://teamsterslocal776.org/index.cfm?zone=/unionactive/view_calendar.cfm&calendarID=12642593&thisdate=08/14/2024&useCalSection=main
DTSTART:20240814T130000Z
DTEND:20240815T210000Z
DTSTAMP:20260419T170400
TRIGGER:-PT60M
END:VEVENT
END:VCALENDAR
