BEGIN:VCALENDAR
VERSION:2.0
CALSCALE:GREGORIAN
PRODID:UnionActive
BEGIN:VEVENT
UID:12642590@teamsterslocal776.org
SUMMARY:UPS National Grievance Panel
DESCRIPTION:Contact:  \nLink for more information: http://teamsterslocal776.org/index.cfm?zone=/unionactive/view_calendar.cfm&calendarID=12642590&thisdate=06/02/2024&useCalSection=main
LOCATION:
URL:http://teamsterslocal776.org/index.cfm?zone=/unionactive/view_calendar.cfm&calendarID=12642590&thisdate=06/02/2024&useCalSection=main
DTSTART:20240602T130000Z
DTEND:20240607T210000Z
DTSTAMP:20260419T170420
TRIGGER:-PT60M
END:VEVENT
END:VCALENDAR
