BEGIN:VCALENDAR
VERSION:2.0
CALSCALE:GREGORIAN
PRODID:UnionActive
BEGIN:VEVENT
UID:12606654@teamsterslocal776.org
SUMMARY:Children's Christmas Party
DESCRIPTION:Contact:  \nLink for more information: http://teamsterslocal776.org/index.cfm?zone=/unionactive/view_calendar.cfm&calendarID=12606654&thisdate=12/07/2024&useCalSection=main
LOCATION:Camp Hill Union Hall
URL:http://teamsterslocal776.org/index.cfm?zone=/unionactive/view_calendar.cfm&calendarID=12606654&thisdate=12/07/2024&useCalSection=main
DTSTART:20241207T150000Z
DTEND:20241207T160000Z
DTSTAMP:20260419T153807
TRIGGER:-PT60M
END:VEVENT
END:VCALENDAR
