BEGIN:VCALENDAR
VERSION:2.0
CALSCALE:GREGORIAN
PRODID:UnionActive
BEGIN:VEVENT
UID:12606652@teamsterslocal776.org
SUMMARY:Local 776 Family Picnic!
DESCRIPTION:Contact:  \nLink for more information: http://teamsterslocal776.org/index.cfm?zone=/unionactive/view_calendar.cfm&calendarID=12606652&thisdate=06/09/2024&useCalSection=main
LOCATION:Knoebels Amusement Park
URL:http://teamsterslocal776.org/index.cfm?zone=/unionactive/view_calendar.cfm&calendarID=12606652&thisdate=06/09/2024&useCalSection=main
DTSTART:20240609T150000Z
DTEND:20240610T000000Z
DTSTAMP:20260419T170440
TRIGGER:-PT60M
END:VEVENT
END:VCALENDAR
