BEGIN:VCALENDAR
VERSION:2.0
CALSCALE:GREGORIAN
PRODID:UnionActive
BEGIN:VEVENT
UID:12606645@teamsterslocal776.org
SUMMARY:Monthly Membership Meeting
DESCRIPTION:Contact:  \nLink for more information: http://teamsterslocal776.org/index.cfm?zone=/unionactive/view_calendar.cfm&calendarID=12606645&thisdate=05/19/2024&useCalSection=main
LOCATION:Camp Hill Union Hall
URL:http://teamsterslocal776.org/index.cfm?zone=/unionactive/view_calendar.cfm&calendarID=12606645&thisdate=05/19/2024&useCalSection=main
DTSTART:20240519T140000Z
DTEND:20240519T160000Z
DTSTAMP:20260419T141055
TRIGGER:-PT60M
END:VEVENT
END:VCALENDAR
