BEGIN:VCALENDAR
VERSION:2.0
CALSCALE:GREGORIAN
PRODID:UnionActive
BEGIN:VEVENT
UID:12604639@teamsterslocal776.org
SUMMARY:Monthly Membership Meeting
DESCRIPTION:Contact:  \nLink for more information: http://teamsterslocal776.org/index.cfm?zone=/unionactive/view_calendar.cfm&calendarID=12604639&thisdate=01/14/2024&useCalSection=main
LOCATION:Camp Hill Union Hall
URL:http://teamsterslocal776.org/index.cfm?zone=/unionactive/view_calendar.cfm&calendarID=12604639&thisdate=01/14/2024&useCalSection=main
DTSTART:20240114T150000Z
DTEND:20240114T163000Z
DTSTAMP:20260419T141231
TRIGGER:-PT60M
END:VEVENT
END:VCALENDAR
