BEGIN:VCALENDAR
VERSION:2.0
CALSCALE:GREGORIAN
PRODID:UnionActive
BEGIN:VEVENT
UID:12368577@teamsterslocal776.org
SUMMARY:T-Force Freight Eastern Region Meeting
DESCRIPTION:Contact:  \nLink for more information: http://teamsterslocal776.org/index.cfm?zone=/unionactive/view_calendar.cfm&calendarID=12368577&thisdate=02/27/2023&useCalSection=main
LOCATION:
URL:http://teamsterslocal776.org/index.cfm?zone=/unionactive/view_calendar.cfm&calendarID=12368577&thisdate=02/27/2023&useCalSection=main
DTSTART:20230227T140000Z
DTEND:20230301T220000Z
DTSTAMP:20260419T153435
TRIGGER:-PT60M
END:VEVENT
END:VCALENDAR
