BEGIN:VCALENDAR
VERSION:2.0
CALSCALE:GREGORIAN
PRODID:UnionActive
BEGIN:VEVENT
UID:12368575@teamsterslocal776.org
SUMMARY:UPS Central PA Grievance Panel
DESCRIPTION:Contact:  \nLink for more information: http://teamsterslocal776.org/index.cfm?zone=/unionactive/view_calendar.cfm&calendarID=12368575&thisdate=05/11/2023&useCalSection=main
LOCATION:
URL:http://teamsterslocal776.org/index.cfm?zone=/unionactive/view_calendar.cfm&calendarID=12368575&thisdate=05/11/2023&useCalSection=main
DTSTART:20230511T130000Z
DTEND:20230511T210000Z
DTSTAMP:20260419T140558
TRIGGER:-PT60M
END:VEVENT
END:VCALENDAR
