BEGIN:VCALENDAR
VERSION:2.0
CALSCALE:GREGORIAN
PRODID:UnionActive
BEGIN:VEVENT
UID:12368572@teamsterslocal776.org
SUMMARY:UPS Central PA Grievance Panel
DESCRIPTION:Contact:  \nLink for more information: http://teamsterslocal776.org/index.cfm?zone=/unionactive/view_calendar.cfm&calendarID=12368572&thisdate=02/23/2023&useCalSection=main
LOCATION:
URL:http://teamsterslocal776.org/index.cfm?zone=/unionactive/view_calendar.cfm&calendarID=12368572&thisdate=02/23/2023&useCalSection=main
DTSTART:20230223T140000Z
DTEND:20230223T220000Z
DTSTAMP:20260419T220159
TRIGGER:-PT60M
END:VEVENT
END:VCALENDAR
