BEGIN:VCALENDAR
VERSION:2.0
CALSCALE:GREGORIAN
PRODID:UnionActive
BEGIN:VEVENT
UID:12368472@teamsterslocal776.org
SUMMARY:Eastern Region Joint Area Committee Meeting
DESCRIPTION:Contact:  \nLink for more information: http://teamsterslocal776.org/index.cfm?zone=/unionactive/view_calendar.cfm&calendarID=12368472&thisdate=10/16/2023&useCalSection=main
LOCATION:
URL:http://teamsterslocal776.org/index.cfm?zone=/unionactive/view_calendar.cfm&calendarID=12368472&thisdate=10/16/2023&useCalSection=main
DTSTART:20231016T130000Z
DTEND:20231019T210000Z
DTSTAMP:20260419T140902
TRIGGER:-PT60M
END:VEVENT
END:VCALENDAR
