BEGIN:VCALENDAR
VERSION:2.0
CALSCALE:GREGORIAN
PRODID:UnionActive
BEGIN:VEVENT
UID:12368471@teamsterslocal776.org
SUMMARY:Eastern Region Joint Area Committee Meeting
DESCRIPTION:Contact:  \nLink for more information: http://teamsterslocal776.org/index.cfm?zone=/unionactive/view_calendar.cfm&calendarID=12368471&thisdate=07/17/2023&useCalSection=main
LOCATION:
URL:http://teamsterslocal776.org/index.cfm?zone=/unionactive/view_calendar.cfm&calendarID=12368471&thisdate=07/17/2023&useCalSection=main
DTSTART:20230717T130000Z
DTEND:20230717T210000Z
DTSTAMP:20260419T074642
TRIGGER:-PT60M
END:VEVENT
END:VCALENDAR
