BEGIN:VCALENDAR
VERSION:2.0
CALSCALE:GREGORIAN
PRODID:UnionActive
BEGIN:VEVENT
UID:12368336@teamsterslocal776.org
SUMMARY:Local 776 Golf Tournament
DESCRIPTION:Contact:  \nLink for more information: http://teamsterslocal776.org/index.cfm?zone=/unionactive/view_calendar.cfm&calendarID=12368336&thisdate=08/06/2023&useCalSection=main
LOCATION:Eagles Crossing Golf Course
URL:http://teamsterslocal776.org/index.cfm?zone=/unionactive/view_calendar.cfm&calendarID=12368336&thisdate=08/06/2023&useCalSection=main
DTSTART:20230806T110000Z
DTEND:20230806T190000Z
DTSTAMP:20260419T123619
TRIGGER:-PT60M
END:VEVENT
END:VCALENDAR
