BEGIN:VCALENDAR
VERSION:2.0
CALSCALE:GREGORIAN
PRODID:UnionActive
BEGIN:VEVENT
UID:12368334@teamsterslocal776.org
SUMMARY:Monthly Membership Meeting
DESCRIPTION:Contact:  \nLink for more information: http://teamsterslocal776.org/index.cfm?zone=/unionactive/view_calendar.cfm&calendarID=12368334&thisdate=12/10/2023&useCalSection=main
LOCATION:Camp Hill Union Hall
URL:http://teamsterslocal776.org/index.cfm?zone=/unionactive/view_calendar.cfm&calendarID=12368334&thisdate=12/10/2023&useCalSection=main
DTSTART:20231210T150000Z
DTEND:20231210T170000Z
DTSTAMP:20260419T140432
TRIGGER:-PT60M
END:VEVENT
END:VCALENDAR
