BEGIN:VCALENDAR
VERSION:2.0
CALSCALE:GREGORIAN
PRODID:UnionActive
BEGIN:VEVENT
UID:12368329@teamsterslocal776.org
SUMMARY:Monthly Membership Meeting
DESCRIPTION:Contact:  \nLink for more information: http://teamsterslocal776.org/index.cfm?zone=/unionactive/view_calendar.cfm&calendarID=12368329&thisdate=09/10/2023&useCalSection=main
LOCATION:Harrisburg Union Hall
URL:http://teamsterslocal776.org/index.cfm?zone=/unionactive/view_calendar.cfm&calendarID=12368329&thisdate=09/10/2023&useCalSection=main
DTSTART:20230910T140000Z
DTEND:20230910T160000Z
DTSTAMP:20260419T123428
TRIGGER:-PT60M
END:VEVENT
END:VCALENDAR
