BEGIN:VCALENDAR
VERSION:2.0
CALSCALE:GREGORIAN
PRODID:UnionActive
BEGIN:VEVENT
UID:12368326@teamsterslocal776.org
SUMMARY:Stewards Meeting
DESCRIPTION:Contact:  \nLink for more information: http://teamsterslocal776.org/index.cfm?zone=/unionactive/view_calendar.cfm&calendarID=12368326&thisdate=05/06/2023&useCalSection=main
LOCATION:Harrisburg Union Hall
URL:http://teamsterslocal776.org/index.cfm?zone=/unionactive/view_calendar.cfm&calendarID=12368326&thisdate=05/06/2023&useCalSection=main
DTSTART:20230506T140000Z
DTEND:20230506T160000Z
DTSTAMP:20260419T105452
TRIGGER:-PT60M
END:VEVENT
END:VCALENDAR
